BEGIN:VCALENDAR
VERSION:2.0
PRODID:-//Archivo Nacional Aruba - ECPv4.9.9//NONSGML v1.0//EN
CALSCALE:GREGORIAN
METHOD:PUBLISH
X-WR-CALNAME:Archivo Nacional Aruba
X-ORIGINAL-URL:http://ana.aw
X-WR-CALDESC:Events for Archivo Nacional Aruba
BEGIN:VTIMEZONE
TZID:America/Halifax
BEGIN:DAYLIGHT
TZOFFSETFROM:-0400
TZOFFSETTO:-0300
TZNAME:ADT
DTSTART:20180311T060000
END:DAYLIGHT
BEGIN:STANDARD
TZOFFSETFROM:-0300
TZOFFSETTO:-0400
TZNAME:AST
DTSTART:20181104T050000
END:STANDARD
END:VTIMEZONE
BEGIN:VEVENT
DTSTART;TZID=America/Halifax:20180809T190000
DTEND;TZID=America/Halifax:20180809T200000
DTSTAMP:20191208T184903
CREATED:20180809T202917Z
LAST-MODIFIED:20180809T203825Z
UID:554-1533841200-1533844800@ana.aw
SUMMARY:Presentacion di un coleccion di palabranan di antes poco uza
DESCRIPTION:Presentacion di un coleccion di palabranan di antes poco uza \nArchivo Nacional Aruba tin e grato placer di invita e comunidad di Aruba\, especialmente esnan interesa den nos dushi idioma di Papiamento y historia di Aruba en general pa un presentacion. \nE presentacion ta wordo duna dor di Sra. Lucia Kelly cu ta bai presenta un coleccion di palabranan di antes cu masha poco ta wordo uza. Cu e publicacion aki kier logra pa duna tur hende e oportunidad pa sera conoci cu un lista di palabra di antes poco uza awendia y duna e oportunidad pa reacciona riba e contenido y pa agrega palabranan pa asina yuda rescata mas tanto palabranan di antes. \nE presentacion lo tuma lugar: \nDia: 9 augustus 2018\nOra: 7 or – 8 or pm\nLugar: Archivo Nacional Aruba \nNos ta spera di por conta cu bo(so) presencia pa asina nos sigui engrandece y contribui na nos idioma y cultura. \n
URL:http://ana.aw/event/presentacion-di-un-coleccion-di-palabranan-di-antes-poco-uza/
END:VEVENT
END:VCALENDAR