BEGIN:VCALENDAR
VERSION:2.0
PRODID:-//Archivo Nacional Aruba - ECPv4.9.9//NONSGML v1.0//EN
CALSCALE:GREGORIAN
METHOD:PUBLISH
X-WR-CALNAME:Archivo Nacional Aruba
X-ORIGINAL-URL:http://ana.aw
X-WR-CALDESC:Events for Archivo Nacional Aruba
BEGIN:VTIMEZONE
TZID:America/Halifax
BEGIN:DAYLIGHT
TZOFFSETFROM:-0400
TZOFFSETTO:-0300
TZNAME:ADT
DTSTART:20180311T060000
END:DAYLIGHT
BEGIN:STANDARD
TZOFFSETFROM:-0300
TZOFFSETTO:-0400
TZNAME:AST
DTSTART:20181104T050000
END:STANDARD
END:VTIMEZONE
BEGIN:VEVENT
DTSTART;VALUE=DATE:20180125
DTEND;VALUE=DATE:20180126
DTSTAMP:20191208T191932
CREATED:20170802T020943Z
LAST-MODIFIED:20170802T020943Z
UID:170-1516838400-1516924799@ana.aw
SUMMARY:Dia di Betico
DESCRIPTION:
URL:http://ana.aw/event/dia-di-betico/
END:VEVENT
END:VCALENDAR