BEGIN:VCALENDAR
VERSION:2.0
PRODID:-//Archivo Nacional Aruba - ECPv4.9.9//NONSGML v1.0//EN
CALSCALE:GREGORIAN
METHOD:PUBLISH
X-WR-CALNAME:Archivo Nacional Aruba
X-ORIGINAL-URL:http://ana.aw
X-WR-CALDESC:Events for Archivo Nacional Aruba
BEGIN:VTIMEZONE
TZID:America/Halifax
BEGIN:DAYLIGHT
TZOFFSETFROM:-0400
TZOFFSETTO:-0300
TZNAME:ADT
DTSTART:20170312T060000
END:DAYLIGHT
BEGIN:STANDARD
TZOFFSETFROM:-0300
TZOFFSETTO:-0400
TZNAME:AST
DTSTART:20171105T050000
END:STANDARD
END:VTIMEZONE
BEGIN:VEVENT
DTSTART;VALUE=DATE:20171122
DTEND;VALUE=DATE:20171203
DTSTAMP:20191114T190338
CREATED:20171123T025818Z
LAST-MODIFIED:20171130T034744Z
UID:518-1511308800-1512259199@ana.aw
SUMMARY:Archivo Nacional Aruba tin su propio website!
DESCRIPTION:Archivo Nacional Aruba tin su propio website! \nUn deseo cu tabata existi pa basta tempo caba porfin a bira un realidad pa ANA. \nArchivo Nacional Aruba ta digital y tin su propio website: www.ana.aw . \nArchivo Nacional pa basta aña tabata accesibel online via die e website di gobierno (gobierno.aw)\, pero awor ta conta tambe cu un propio sitio online. \n \nE website ta uno informativo\, cu ta brinda e opportunidad na e bishitantenan pa sera conoci mas cu e departamento\, trabounan cu e ta eherce y servicionan cu ta wordo brinda. \nE coleccion di ANA ta ensera archivo den forma di documento\, potret\, material audio-visual y digital. Entre otro tin: archivo di gobierno\, archivonan priva\, coleccion di potret y audiovisual. En total ANA ta maneha y cuida\, mas cu 15 kilometro di archivo\, mas cu 1250 VHS y U-matic tapes y mas cu 100 mil potret. \nDen un online-database riba e website e bishitantenan investigativo por haci nan investigacion den e coleccion di documentonan\, potret y video. Tambe riba e website por haya un amplio splicacion di e servicionan cu ANA ta brinda\, entre otro: investigacion genealogico\, resumen di famia\, investigacion archivistico\, sala di studio y digitalisacion. Riba e website tambe tin e coleccion di investigacion y publicacion cu ANA a produci durante e añanan. E website tambe tin varios potret y un video cu ta mustra parti di e trabou di ANA. \nUn potret cu mensualmente lo cambia a wordo yama “prenda di luna”\, cu ta un potret di Aruba di antaño cu ta cambia tur luna. E potret ta hiba nos bek den tempo y ademas ta ensera un investigacion cortico di e contenido di e potret. E intencion di ANA ta pa sigui amplia e website cu mas di e coleccion. Tambe si por tin un of otro comentario riba e potretnan cu nos publica\, esakinan ta welcome pa medio di info@ana.aw. \nE website a wordo prepara y hinca den otro pa medio di e personal di ANA mes\, mientras cu e diseño di e website a wordo financia \npa Fundacion Amigonan di Archivo\, pa cual ANA kier a gradici e fundacion pa e gesto aki. \n \n
URL:http://ana.aw/event/archivo-nacional-aruba-tin-su-propio-website/
ATTACH;FMTTYPE=image/jpeg:http://ana.aw/wp-content/uploads/2017/11/2017-11-23-Webpage-ANA-half.jpg
END:VEVENT
END:VCALENDAR