BEGIN:VCALENDAR
VERSION:2.0
PRODID:-//Archivo Nacional Aruba - ECPv4.9.9//NONSGML v1.0//EN
CALSCALE:GREGORIAN
METHOD:PUBLISH
X-WR-CALNAME:Archivo Nacional Aruba
X-ORIGINAL-URL:http://ana.aw
X-WR-CALDESC:Events for Archivo Nacional Aruba
BEGIN:VTIMEZONE
TZID:America/Halifax
BEGIN:DAYLIGHT
TZOFFSETFROM:-0400
TZOFFSETTO:-0300
TZNAME:ADT
DTSTART:20170312T060000
END:DAYLIGHT
BEGIN:STANDARD
TZOFFSETFROM:-0300
TZOFFSETTO:-0400
TZNAME:AST
DTSTART:20171105T050000
END:STANDARD
END:VTIMEZONE
BEGIN:VEVENT
DTSTART;VALUE=DATE:20171205
DTEND;VALUE=DATE:20171206
DTSTAMP:20191208T183455
CREATED:20170802T021348Z
LAST-MODIFIED:20170907T144528Z
UID:186-1512432000-1512518399@ana.aw
SUMMARY:Sinterklaas
DESCRIPTION:
URL:http://ana.aw/event/sinter-klaas/
END:VEVENT
END:VCALENDAR