BEGIN:VCALENDAR
VERSION:2.0
PRODID:-//Archivo Nacional Aruba - ECPv4.9.9//NONSGML v1.0//EN
CALSCALE:GREGORIAN
METHOD:PUBLISH
X-WR-CALNAME:Archivo Nacional Aruba
X-ORIGINAL-URL:http://ana.aw
X-WR-CALDESC:Events for Archivo Nacional Aruba
BEGIN:VTIMEZONE
TZID:America/Halifax
BEGIN:DAYLIGHT
TZOFFSETFROM:-0400
TZOFFSETTO:-0300
TZNAME:ADT
DTSTART:20170312T060000
END:DAYLIGHT
BEGIN:STANDARD
TZOFFSETFROM:-0300
TZOFFSETTO:-0400
TZNAME:AST
DTSTART:20171105T050000
END:STANDARD
END:VTIMEZONE
BEGIN:VEVENT
DTSTART;VALUE=DATE:20171225
DTEND;VALUE=DATE:20171226
DTSTAMP:20191208T183502
CREATED:20170802T021422Z
LAST-MODIFIED:20170802T021422Z
UID:188-1514160000-1514246399@ana.aw
SUMMARY:Pasco di Nacemento
DESCRIPTION:
URL:http://ana.aw/event/pasco-di-nacemento/
END:VEVENT
END:VCALENDAR