BEGIN:VCALENDAR
VERSION:2.0
PRODID:-//Archivo Nacional Aruba - ECPv4.9.9//NONSGML v1.0//EN
CALSCALE:GREGORIAN
METHOD:PUBLISH
X-WR-CALNAME:Archivo Nacional Aruba
X-ORIGINAL-URL:http://ana.aw
X-WR-CALDESC:Events for Archivo Nacional Aruba
BEGIN:VTIMEZONE
TZID:America/Halifax
BEGIN:DAYLIGHT
TZOFFSETFROM:-0400
TZOFFSETTO:-0300
TZNAME:ADT
DTSTART:20170312T060000
END:DAYLIGHT
BEGIN:STANDARD
TZOFFSETFROM:-0300
TZOFFSETTO:-0400
TZNAME:AST
DTSTART:20171105T050000
END:STANDARD
END:VTIMEZONE
BEGIN:VEVENT
DTSTART;VALUE=DATE:20170318
DTEND;VALUE=DATE:20170319
DTSTAMP:20191208T182418
CREATED:20170318T154604Z
LAST-MODIFIED:20171130T031825Z
UID:487-1489795200-1489881599@ana.aw
SUMMARY:Exposicion "Aruba ta nos tur!" - 18 maart 2017
DESCRIPTION:\n		\n			#gallery-1 {\n				margin: auto;\n			}\n			#gallery-1 .gallery-item {\n				float: left;\n				margin-top: 10px;\n				text-align: center;\n				width: 33%;\n			}\n			#gallery-1 img {\n				border: 2px solid #cfcfcf;\n			}\n			#gallery-1 .gallery-caption {\n				margin-left: 0;\n			}\n			/* see gallery_shortcode() in wp-includes/media.php */\n		\n		\n			\n				\n			\n			\n				\n			\n			\n				\n			\n			\n				\n			\n				\n				expo 2017 @ ANA\n				\n			\n				\n			\n			\n				\n			\n		\n\nbista fotografico di exposicion “Aruba ta nos tur” \n
URL:http://ana.aw/event/exposicion-aruba-ta-nos-tur-18-maart-2017/
ATTACH;FMTTYPE=image/jpeg:http://ana.aw/wp-content/uploads/2017/09/IMG_1836.jpg
END:VEVENT
END:VCALENDAR