BEGIN:VCALENDAR
VERSION:2.0
PRODID:-//Archivo Nacional Aruba - ECPv4.9.9//NONSGML v1.0//EN
CALSCALE:GREGORIAN
METHOD:PUBLISH
X-WR-CALNAME:Archivo Nacional Aruba
X-ORIGINAL-URL:http://ana.aw
X-WR-CALDESC:Events for Archivo Nacional Aruba
BEGIN:VTIMEZONE
TZID:America/Halifax
BEGIN:DAYLIGHT
TZOFFSETFROM:-0400
TZOFFSETTO:-0300
TZNAME:ADT
DTSTART:20180311T060000
END:DAYLIGHT
BEGIN:STANDARD
TZOFFSETFROM:-0300
TZOFFSETTO:-0400
TZNAME:AST
DTSTART:20181104T050000
END:STANDARD
END:VTIMEZONE
BEGIN:VEVENT
DTSTART;VALUE=DATE:20180609
DTEND;VALUE=DATE:20180610
DTSTAMP:20191208T182249
CREATED:20170811T053754Z
LAST-MODIFIED:20170811T053754Z
UID:280-1528502400-1528588799@ana.aw
SUMMARY:Dia Internacional di Archivo
DESCRIPTION:
URL:http://ana.aw/event/dia-internacional-di-archivo/
END:VEVENT
END:VCALENDAR